BEGIN:VCALENDAR
PRODID:-//eluceo/ical//2.0/EN
VERSION:2.0
CALSCALE:GREGORIAN
BEGIN:VEVENT
UID:event-571
DTSTAMP:20260420T221932Z
SUMMARY:Sjaars | Pool & Drinks
DESCRIPTION:On the 9th of October\, the Sjaars Committee will organize its 
 first event of the year: Pool &amp\; Drinks. No matter whether you just li
 ke to play for fun or if you want to test your skills in the tournament\, 
 the event is open for everyone!  The event will take place from 19:00-21:
 00 at Poollokaal De Gracht close to Roeterseiland. The price of €5 incl
 udes the rent of the pool tables as well as a couple of drinks. Additional
 ly\, there will also be a special prize for the winner of the tournament!
   Ps: After the event we will go directly to De Heeren van Amstel for som
 e more free drinks at the October borrel!
DTSTART:20231009T170000Z
DTEND:20231009T190000Z
LOCATION:Poollokaal De Gracht
END:VEVENT
BEGIN:VTIMEZONE
TZID:UTC
BEGIN:STANDARD
DTSTART:20231009T170000
TZNAME:UTC
TZOFFSETTO:+0000
TZOFFSETFROM:+0000
END:STANDARD
END:VTIMEZONE
END:VCALENDAR
