BEGIN:VCALENDAR
PRODID:-//eluceo/ical//2.0/EN
VERSION:2.0
CALSCALE:GREGORIAN
BEGIN:VEVENT
UID:event-835
DTSTAMP:20260423T163839Z
SUMMARY:Study session
DESCRIPTION:Tired of studying alone? Join us for a productive study session
  at REC!  The morning sessions from 09:00-13:00 will be in room A2.05 an
 d an afternoon session from 13:00-17:00 is in room A2.010 on Wednesday 
 the 20th of May! This will be a great opportunity to focus on your work a
 nd study in a quiet\, collaborative environment. Plus\, we’ll be providi
 ng some free snacks and drinks to keep you energized throughout the day. 
  Bring your VSAE friends and let’s make studying a bit more fun!
DTSTART:20260520T070000Z
DTEND:20260520T150000Z
LOCATION:REC
END:VEVENT
BEGIN:VTIMEZONE
TZID:UTC
BEGIN:STANDARD
DTSTART:20260520T070000
TZNAME:UTC
TZOFFSETTO:+0000
TZOFFSETFROM:+0000
END:STANDARD
END:VTIMEZONE
END:VCALENDAR
