BEGIN:VCALENDAR
PRODID:-//eluceo/ical//2.0/EN
VERSION:2.0
CALSCALE:GREGORIAN
BEGIN:VEVENT
UID:event-656
DTSTAMP:20260424T101005Z
SUMMARY:Master Speeddate Event
DESCRIPTION:Master's students\, attention! Wouldn't it be ideal to write yo
 ur master's thesis in collaboration with a company of your choice? Well\, 
 this is your chance to do so. At the Master Speeddate Event\, there is a v
 ariety of companies that offer thesis opportunities. You rank the companie
 s\, the companies rank the students and we find the best matches for the s
 peed dates. After the speed date rounds there will be a borrel\, this way 
 you can socialise with the participants and the participating companies! T
 he participating companies are: KPMG\, Probability &amp\; Partners\, Pw
 C\, SINCERIUS\, SiRM\, Triple A\, Ortec and Valcon.  When: 13th of Novem
 ber 14:00-18:30 pm Where: Royal Industrieele Groote Club Signup opening: 
 20th of September 12:00 pm Signup deadline: 8th of October 23:59 pm  
 Cost: Free For registration you need to upload your anonymous CV. After th
 e registration deadline\, we will ask you to rank the companies. For more 
 information about the event click here. CAREFULLY READ the terms and condi
 tions before applying.
DTSTART:20241113T130000Z
DTEND:20241113T173000Z
LOCATION:Royal Industrieele Groote Club
END:VEVENT
BEGIN:VTIMEZONE
TZID:UTC
BEGIN:STANDARD
DTSTART:20241113T130000
TZNAME:UTC
TZOFFSETTO:+0000
TZOFFSETFROM:+0000
END:STANDARD
END:VTIMEZONE
END:VCALENDAR
