BEGIN:VCALENDAR
PRODID:-//eluceo/ical//2.0/EN
VERSION:2.0
CALSCALE:GREGORIAN
BEGIN:VEVENT
UID:event-223
DTSTAMP:20260424T074929Z
SUMMARY:LED 2020 
DESCRIPTION:The registrations open 27th of November at 20:00 at led2020.ev
 entbrite.nl Register fast at led2020.eventbrite.nl because this event alwa
 ys sells out fast! The Landelijke Econometristendag The National Econometr
 icians Day (in Dutch: Landelijke Econometristendag\, abbreviated as LED) i
 s the largest annual recruitment event for students in the fields of econo
 metrics\, operations research and actuarial sciences in the Netherlands. O
 n this day\, over 800 students get the opportunity to orientate themselves
  on their future careers and get in contact with their potential future em
 ployers. Who can participate? The LED is aimed at all students in the fiel
 ds of econometrics\, operations research and actuarial sciences in the Net
 herlands in their 3rd year or higher. In order to participate at the LED y
 ou need to be a member of one of the six study associations for econometri
 cs and operations research in the Netherlands. If you aren’t a member ye
 t\, you can contact the study association at your university for more info
 rmation. To make sure that the LED is also open for international students
 \, a lot of companies offer their cases in English. This is indicated by a
  British flag next to the case description. In order to keep the LED avail
 able for all econometrics students\, we don’t use CV selection. For more
  information go to www.leditbeyourday.nl\, registrations open at led2020.
 eventbrite.nl
DTSTART:20191127T190000Z
DTEND:20200206T225959Z
END:VEVENT
BEGIN:VTIMEZONE
TZID:UTC
BEGIN:STANDARD
DTSTART:20191127T190000
TZNAME:UTC
TZOFFSETTO:+0000
TZOFFSETFROM:+0000
END:STANDARD
END:VTIMEZONE
END:VCALENDAR
