BEGIN:VCALENDAR
PRODID:-//eluceo/ical//2.0/EN
VERSION:2.0
CALSCALE:GREGORIAN
BEGIN:VEVENT
UID:event-670
DTSTAMP:20260425T103306Z
SUMMARY:Study session
DESCRIPTION:Tired of studying alone? Join us for a productive study session
  at REC (Roeterseiland campus)\, room JKB.11 - B.11 on Wednesday the 16t
 h of October\, from 10:00 to 17:00! This will be a great opportunity to fo
 cus on your work and study in a quiet\, collaborative environment. Plus\, 
 we’ll be providing some free snacks to keep you energized throughout the
  day.  We hope to see you there!
DTSTART:20241016T080000Z
DTEND:20241016T150000Z
LOCATION:REC JK - B.25
END:VEVENT
BEGIN:VTIMEZONE
TZID:UTC
BEGIN:STANDARD
DTSTART:20241016T080000
TZNAME:UTC
TZOFFSETTO:+0000
TZOFFSETFROM:+0000
END:STANDARD
END:VTIMEZONE
END:VCALENDAR
