BEGIN:VCALENDAR
PRODID:-//eluceo/ical//2.0/EN
VERSION:2.0
CALSCALE:GREGORIAN
BEGIN:VEVENT
UID:event-713
DTSTAMP:20260426T033654Z
SUMMARY:The Inhouse Experience | ING
DESCRIPTION:Mark your calendar for Tuesday\, May 13th 2025 14:00! We will b
 e working with ING for the Inhouse Experience.  To sign up upload your AN
 ONYMOUS CV in our website.    International\, innovative\, flexible and
 … orange!   ING\, the leading Dutch bank for digital banking.   Yo
 u’ll know us through our mobile banking app that lets you carry out all 
 your bank transactions yourself. And you’ll probably know us as the main
  sponsor of multiple sports and culture initiatives such as the Rijksmuseu
 m and Dutch football.   Customer experience is what differentiates us a
 nd we’re continuously innovating to improve it. We also partner with oth
 ers to bring disruptive ideas to market faster.  Our more than 60\,000 em
 ployees serve around 37 million customers\, corporate clients and financia
 l institutions in over 40 countries.    We help our customers to stay
  one step ahead\, in both their private and professional lives. The same g
 oes for our own people\, of course. Their wellbeing is our top priority. W
 e make sure everyone can feel good about themselves and maintain a good wo
 rk-life balance.   Who we are   We’re an international bank oper
 ating in more than 40 countries. We work on a global scale\, for tens of m
 illions of customers.    We’re innovative. We’re big\, but we ad
 opt a start-up mindset whenever we can\, embracing the latest technologies
 \, insights and working methods. We experiment and break new ground. If we
  occasionally make mistakes\, we learn from them.    We’re flexibl
 e. We understand the importance of a good work/life balance. This will kee
 p you in control of your planning. Whether you work from home or at the of
 fice\, we will provide a comfortable workplace.   Above all we’re or
 ange. We roll up our sleeves and finish the job. We’re transparent\, tak
 e responsibility and help others to be successful. We go for it 100%. 
      Registration closes on 23th of April. 
DTSTART:20250513T120000Z
DTEND:20250513T150000Z
LOCATION:ING Maple
END:VEVENT
BEGIN:VTIMEZONE
TZID:UTC
BEGIN:STANDARD
DTSTART:20250513T120000
TZNAME:UTC
TZOFFSETTO:+0000
TZOFFSETFROM:+0000
END:STANDARD
END:VTIMEZONE
END:VCALENDAR
